BEGIN:VCALENDAR
VERSION:2.0
PRODID:-//Augusta Ski - ECPv6.15.20//NONSGML v1.0//EN
CALSCALE:GREGORIAN
METHOD:PUBLISH
X-ORIGINAL-URL:https://augustaski.com
X-WR-CALDESC:Events for Augusta Ski
REFRESH-INTERVAL;VALUE=DURATION:PT1H
X-Robots-Tag:noindex
X-PUBLISHED-TTL:PT1H
BEGIN:VTIMEZONE
TZID:UTC
BEGIN:STANDARD
TZOFFSETFROM:+0000
TZOFFSETTO:+0000
TZNAME:UTC
DTSTART:20250101T000000
END:STANDARD
END:VTIMEZONE
BEGIN:VEVENT
DTSTART;VALUE=DATE:20261220
DTEND;VALUE=DATE:20261222
DTSTAMP:20260419T222541
CREATED:20260406T171733Z
LAST-MODIFIED:20260406T171817Z
UID:3275-1797724800-1797897599@augustaski.com
SUMMARY:Appalachian Mountain\, NC Race
DESCRIPTION:Time: 9:30 AM
URL:https://augustaski.com/event/appalachian-mountain-nc-race-4/
CATEGORIES:Racing
ATTACH;FMTTYPE=image/jpeg:https://augustaski.com/wp-content/uploads/2026/04/app-mt-ski-racing-w-1.jpg
END:VEVENT
END:VCALENDAR