BEGIN:VCALENDAR
VERSION:2.0
PRODID:-//Augusta Ski - ECPv6.15.20//NONSGML v1.0//EN
CALSCALE:GREGORIAN
METHOD:PUBLISH
X-ORIGINAL-URL:https://augustaski.com
X-WR-CALDESC:Events for Augusta Ski
REFRESH-INTERVAL;VALUE=DURATION:PT1H
X-Robots-Tag:noindex
X-PUBLISHED-TTL:PT1H
BEGIN:VTIMEZONE
TZID:UTC
BEGIN:STANDARD
TZOFFSETFROM:+0000
TZOFFSETTO:+0000
TZNAME:UTC
DTSTART:20260101T000000
END:STANDARD
END:VTIMEZONE
BEGIN:VEVENT
DTSTART;VALUE=DATE:20270202
DTEND;VALUE=DATE:20270203
DTSTAMP:20260420T013952
CREATED:20260406T192035Z
LAST-MODIFIED:20260406T192314Z
UID:3288-1801526400-1801612799@augustaski.com
SUMMARY:Cup Run Challenge at Snowshoe\, WV
DESCRIPTION:Time: 9:30 AM
URL:https://augustaski.com/event/cup-run-challenge-at-snowshoe-wv/
CATEGORIES:Racing
ATTACH;FMTTYPE=image/jpeg:https://augustaski.com/wp-content/uploads/2026/04/cup-run-challenge-snowshoe-west-va-copy.jpg
END:VEVENT
END:VCALENDAR