BEGIN:VCALENDAR
VERSION:2.0
PRODID:-//Augusta Ski - ECPv6.15.20//NONSGML v1.0//EN
CALSCALE:GREGORIAN
METHOD:PUBLISH
X-ORIGINAL-URL:https://augustaski.com
X-WR-CALDESC:Events for Augusta Ski
REFRESH-INTERVAL;VALUE=DURATION:PT1H
X-Robots-Tag:noindex
X-PUBLISHED-TTL:PT1H
BEGIN:VTIMEZONE
TZID:UTC
BEGIN:STANDARD
TZOFFSETFROM:+0000
TZOFFSETTO:+0000
TZNAME:UTC
DTSTART:20250101T000000
END:STANDARD
END:VTIMEZONE
BEGIN:VEVENT
DTSTART;TZID=UTC:20260505T190000
DTEND;TZID=UTC:20260505T210000
DTSTAMP:20260419T173700
CREATED:20260406T195524Z
LAST-MODIFIED:20260413T105219Z
UID:3328-1778007600-1778014800@augustaski.com
SUMMARY:Augusta Ski & Outing Meeting at Pizza Joint
DESCRIPTION:Monthly ASOC Meeting at Pizza Joint first Tuesday of each month. 7pm.
URL:https://augustaski.com/event/aiken-ski-outing-meeting-at-pizza-joint/
LOCATION:Pizza Joint\, 1245 Broad Street\, Augusta\, GA\, 30901\, United States
CATEGORIES:social
ATTACH;FMTTYPE=image/jpeg:https://augustaski.com/wp-content/uploads/2026/04/pizza-8.jpg
END:VEVENT
END:VCALENDAR