BEGIN:VCALENDAR
VERSION:2.0
PRODID:-//Augusta Ski - ECPv6.15.20//NONSGML v1.0//EN
CALSCALE:GREGORIAN
METHOD:PUBLISH
X-WR-CALNAME:Augusta Ski
X-ORIGINAL-URL:https://augustaski.com
X-WR-CALDESC:Events for Augusta Ski
REFRESH-INTERVAL;VALUE=DURATION:PT1H
X-Robots-Tag:noindex
X-PUBLISHED-TTL:PT1H
BEGIN:VTIMEZONE
TZID:UTC
BEGIN:STANDARD
TZOFFSETFROM:+0000
TZOFFSETTO:+0000
TZNAME:UTC
DTSTART:20250101T000000
END:STANDARD
END:VTIMEZONE
BEGIN:VEVENT
DTSTART;TZID=UTC:20260523T170000
DTEND;TZID=UTC:20260523T220000
DTSTAMP:20260419T193919
CREATED:20260406T194548Z
LAST-MODIFIED:20260406T194658Z
UID:3296-1779555600-1779573600@augustaski.com
SUMMARY:Fame the Musical
DESCRIPTION:Join us for Fame at the Aiken Community Playhouse on Saturday\, May 23\, 2026 at 7:30 pm. Group dinner beforehand around 5 pm (restaurant TBD). Tickets: $25 (60+) / $30 (under 60). Contact Lorena Turick at turickll@yahoo.com by early April with payment by mid-April. Tickets purchased as a group to ensure we sit together.
URL:https://augustaski.com/event/fame-the-musical/
LOCATION:Aiken Community Playhouse\, 126 Newberry Street SW\, Aiken\, SC\, 29803\, United States
CATEGORIES:social
ATTACH;FMTTYPE=image/jpeg:https://augustaski.com/wp-content/uploads/2026/04/fame-the-musical.jpg
ORGANIZER;CN="Lorena Turick":MAILTO:turickll@yahoo.com
END:VEVENT
END:VCALENDAR