BEGIN:VCALENDAR
VERSION:2.0
PRODID:-//Augusta Ski - ECPv6.15.20//NONSGML v1.0//EN
CALSCALE:GREGORIAN
METHOD:PUBLISH
X-ORIGINAL-URL:https://augustaski.com
X-WR-CALDESC:Events for Augusta Ski
REFRESH-INTERVAL;VALUE=DURATION:PT1H
X-Robots-Tag:noindex
X-PUBLISHED-TTL:PT1H
BEGIN:VTIMEZONE
TZID:UTC
BEGIN:STANDARD
TZOFFSETFROM:+0000
TZOFFSETTO:+0000
TZNAME:UTC
DTSTART:20260101T000000
END:STANDARD
END:VTIMEZONE
BEGIN:VEVENT
DTSTART;VALUE=DATE:20270517
DTEND;VALUE=DATE:20270601
DTSTAMP:20260419T163645
CREATED:20260407T113030Z
LAST-MODIFIED:20260407T113214Z
UID:3429-1810512000-1811807999@augustaski.com
SUMMARY:Australia/New Zealand/Fiji
DESCRIPTION:This is an adventure of a life time.  The trip will be in May of 2027.  Details to be announced by early summer.
URL:https://augustaski.com/event/australia-new-zealand-fiji/
CATEGORIES:Summer Trips
ATTACH;FMTTYPE=image/jpeg:https://augustaski.com/wp-content/uploads/2026/04/new-zealand.jpeg
END:VEVENT
END:VCALENDAR