BEGIN:VCALENDAR
VERSION:2.0
PRODID:-//Augusta Ski - ECPv6.15.20//NONSGML v1.0//EN
CALSCALE:GREGORIAN
METHOD:PUBLISH
X-WR-CALNAME:Augusta Ski
X-ORIGINAL-URL:https://augustaski.com
X-WR-CALDESC:Events for Augusta Ski
REFRESH-INTERVAL;VALUE=DURATION:PT1H
X-Robots-Tag:noindex
X-PUBLISHED-TTL:PT1H
BEGIN:VTIMEZONE
TZID:UTC
BEGIN:STANDARD
TZOFFSETFROM:+0000
TZOFFSETTO:+0000
TZNAME:UTC
DTSTART:20250101T000000
END:STANDARD
END:VTIMEZONE
BEGIN:VEVENT
DTSTART;VALUE=DATE:20261205
DTEND;VALUE=DATE:20261213
DTSTAMP:20260419T212926
CREATED:20260406T163004Z
LAST-MODIFIED:20260406T164420Z
UID:3233-1796428800-1797119999@augustaski.com
SUMMARY:Steamboat 2026
DESCRIPTION:Call Sports America Tours 800-876-8551
URL:https://augustaski.com/event/steamboat-2026-2/
LOCATION:Steamboat Ski Resort\, 2305 Mt. Werner Circle\, Steamboat Springs\, CO\, 80487\, United States
CATEGORIES:Winter Trips
ATTACH;FMTTYPE=image/jpeg:https://augustaski.com/wp-content/uploads/2026/04/steaamboat.jpg
END:VEVENT
END:VCALENDAR